BEGIN:VCALENDAR
VERSION:2.0
PRODID:-//Nova Osmicka//Event Calendar//CS
CALSCALE:GREGORIAN
METHOD:PUBLISH
BEGIN:VEVENT
UID:event-150@novaosmicka.cz
DTSTAMP:20260425T192148Z
DTSTART:20260522T170000Z
DTEND:20260522T200000Z
SUMMARY:AC/CZ (Top AC/DC tribute show)
DESCRIPTION:Nejúspěšnější AC/DC tribute kapela přijede k nám!
URL:https://www.novaosmicka.cz/en/program/accz-top-acdc-tribute-show
END:VEVENT
END:VCALENDAR
