BEGIN:VCALENDAR
VERSION:2.0
PRODID:-//Nova Osmicka//Event Calendar//CS
CALSCALE:GREGORIAN
METHOD:PUBLISH
BEGIN:VEVENT
UID:event-27@novaosmicka.cz
DTSTAMP:20260425T191928Z
DTSTART:20260730T180000Z
DTEND:20260730T200000Z
SUMMARY:Krhut & Kozub v textilce
DESCRIPTION:Co se stane\, když zavřete Krhuta s Kozubem do textilky?
URL:https://www.novaosmicka.cz/en/program/krhut-kozub-v-textilce
END:VEVENT
END:VCALENDAR
