BEGIN:VCALENDAR
VERSION:2.0
PRODID:-//Nova Osmicka//Event Calendar//CS
CALSCALE:GREGORIAN
METHOD:PUBLISH
BEGIN:VEVENT
UID:event-87@novaosmicka.cz
DTSTAMP:20260425T192307Z
DTSTART:20260517T190000Z
DTEND:20260517T210000Z
SUMMARY:Letní kino pod komínem - pro dospělé
DESCRIPTION:Zapomeňte na nedělní chmury z blížícího se pondělí.
URL:https://www.novaosmicka.cz/en/program/letni-kino-pod-kominem-pro-dospele-3
END:VEVENT
END:VCALENDAR
