BEGIN:VCALENDAR
VERSION:2.0
PRODID:-//Nova Osmicka//Event Calendar//CS
CALSCALE:GREGORIAN
METHOD:PUBLISH
BEGIN:VEVENT
UID:event-81@novaosmicka.cz
DTSTAMP:20260425T191621Z
DTSTART:20260521T150000Z
DTEND:20260521T200000Z
SUMMARY:Mladí vinaři na Osmičce
DESCRIPTION:Mladí vinaři a necky plné vína míří letos i do Frýdku Místku!
URL:https://www.novaosmicka.cz/en/program/mladi-vinari
END:VEVENT
END:VCALENDAR
