BEGIN:VCALENDAR
VERSION:2.0
PRODID:-//Nova Osmicka//Event Calendar//CS
CALSCALE:GREGORIAN
METHOD:PUBLISH
BEGIN:VEVENT
UID:event-195@novaosmicka.cz
DTSTAMP:20260425T192308Z
DTSTART:20260525T070000Z
DTEND:20260525T080000Z
SUMMARY:Posilování pro maminky s dětmi
DESCRIPTION:Milé maminky\, chcete se cítit silnější\, stabilnější a spokojenější ve svém těle?
URL:https://www.novaosmicka.cz/en/program/posilovani-pro-maminky-s-detmi-4
END:VEVENT
END:VCALENDAR
