BEGIN:VCALENDAR
VERSION:2.0
PRODID:-//Nova Osmicka//Event Calendar//CS
CALSCALE:GREGORIAN
METHOD:PUBLISH
BEGIN:VEVENT
UID:event-1@novaosmicka.cz
DTSTAMP:20260425T180326Z
DTSTART:20260501T070000Z
DTEND:20260501T200000Z
SUMMARY:Grand opening of the complex
DESCRIPTION:We invite you to the grand opening of a new cultural and community center in Frýdek-Místek.
URL:https://www.novaosmicka.cz/en/program/slavnostni-otevreni-arealu
END:VEVENT
END:VCALENDAR
