BEGIN:VCALENDAR
VERSION:2.0
PRODID:-//Nova Osmicka//Event Calendar//CS
CALSCALE:GREGORIAN
METHOD:PUBLISH
BEGIN:VEVENT
UID:event-66@novaosmicka.cz
DTSTAMP:20260425T191744Z
DTSTART:20260529T180000Z
DTEND:20260529T193000Z
SUMMARY:STO ZVÍŘAT
DESCRIPTION:Hudební vystoupení kapely Sto zvířat v textilce.
URL:https://www.novaosmicka.cz/en/program/sto-zvirat
END:VEVENT
END:VCALENDAR
