BEGIN:VCALENDAR
VERSION:2.0
PRODID:-//Nova Osmicka//Event Calendar//CS
CALSCALE:GREGORIAN
METHOD:PUBLISH
BEGIN:VEVENT
UID:event-25@novaosmicka.cz
DTSTAMP:20260425T191912Z
DTSTART:20260514T140000Z
DTEND:20260514T151500Z
SUMMARY:Výmyselníci
DESCRIPTION:Pojďte s námi na dobrodružství plné nových objevů.
URL:https://www.novaosmicka.cz/en/program/vymyselnici-copy
END:VEVENT
END:VCALENDAR
