BEGIN:VCALENDAR
VERSION:2.0
PRODID:-//Nova Osmicka//Event Calendar//CS
CALSCALE:GREGORIAN
METHOD:PUBLISH
BEGIN:VEVENT
UID:event-24@novaosmicka.cz
DTSTAMP:20260425T191750Z
DTSTART:20260514T080000Z
DTEND:20260514T091500Z
SUMMARY:Výmyselníci
DESCRIPTION:Pojďte s námi na dobrodružství plné nových objevů.
URL:https://www.novaosmicka.cz/en/program/vymyselnici
END:VEVENT
END:VCALENDAR
