BEGIN:VCALENDAR
VERSION:2.0
PRODID:-//Nova Osmicka//Event Calendar//CS
CALSCALE:GREGORIAN
METHOD:PUBLISH
BEGIN:VEVENT
UID:event-219@novaosmicka.cz
DTSTAMP:20260425T192025Z
DTSTART:20260530T073000Z
DTEND:20260530T090000Z
SUMMARY:Yoga s navazujícím programem
DESCRIPTION:Dynamická\, ale vědomá praxe\, která tělo probudí a rozhýbe bez přetížení.
URL:https://www.novaosmicka.cz/en/program/yoga-s-navazujicim-programem-3
END:VEVENT
END:VCALENDAR
