BEGIN:VCALENDAR
VERSION:2.0
PRODID:-//Nova Osmicka//Event Calendar//CS
CALSCALE:GREGORIAN
METHOD:PUBLISH
BEGIN:VEVENT
UID:event-220@novaosmicka.cz
DTSTAMP:20260425T192025Z
DTSTART:20260627T073000Z
DTEND:20260627T090000Z
SUMMARY:Yoga s navazujícím programem
DESCRIPTION:Lekce zaměřená na mobilitu\, uvolnění kyčlí\, zad a ramen.
URL:https://www.novaosmicka.cz/en/program/yoga-s-navazujicim-programem-4
END:VEVENT
END:VCALENDAR
