BEGIN:VCALENDAR
VERSION:2.0
PRODID:-//Nova Osmicka//Event Calendar//CS
CALSCALE:GREGORIAN
METHOD:PUBLISH
BEGIN:VEVENT
UID:event-85@novaosmicka.cz
DTSTAMP:20260425T192257Z
DTSTART:20260503T190000Z
DTEND:20260503T210000Z
SUMMARY:Letní kino pod komínem - pro dospělé
DESCRIPTION:Zapomeňte na nedělní chmury z blížícího se pondělí.
URL:https://www.novaosmicka.cz/pl/program/letni-kino-pod-kominem-pro-dospele
END:VEVENT
END:VCALENDAR
