BEGIN:VCALENDAR
VERSION:2.0
PRODID:-//Nova Osmicka//Event Calendar//CS
CALSCALE:GREGORIAN
METHOD:PUBLISH
BEGIN:VEVENT
UID:event-1@novaosmicka.cz
DTSTAMP:20260425T192307Z
DTSTART:20260501T070000Z
DTEND:20260501T200000Z
SUMMARY:Uroczyste otwarcie obiektu
DESCRIPTION:Zapraszamy Państwa na uroczyste otwarcie nowego centrum kultury i społeczności w Frýdku-Místku.
URL:https://www.novaosmicka.cz/pl/program/slavnostni-otevreni-arealu
END:VEVENT
END:VCALENDAR
