BEGIN:VCALENDAR
VERSION:2.0
PRODID:-//Nova Osmicka//Event Calendar//CS
CALSCALE:GREGORIAN
METHOD:PUBLISH
BEGIN:VEVENT
UID:event-217@novaosmicka.cz
DTSTAMP:20260425T191901Z
DTSTART:20260502T073000Z
DTEND:20260502T090000Z
SUMMARY:Yoga s navazujícím programem
DESCRIPTION:Neděle jako protipól hektického týdne.
URL:https://www.novaosmicka.cz/pl/program/yoga-s-navazujicim-programem
END:VEVENT
END:VCALENDAR
