BEGIN:VCALENDAR
VERSION:2.0
PRODID:-//Nova Osmicka//Event Calendar//CS
CALSCALE:GREGORIAN
METHOD:PUBLISH
BEGIN:VEVENT
UID:event-14@novaosmicka.cz
DTSTAMP:20260425T191621Z
DTSTART:20260502T170000Z
DTEND:20260502T200000Z
SUMMARY:Jarek v textilce | Koncert Jaromíra Nohavici & projekce filmu Jarek
DESCRIPTION:Přijďte si užít výjimečný hudební zážitek s legendou české písničkářské scény! Jarek Nohavica zavítá do Frýdku-Místku.
URL:https://www.novaosmicka.cz/program/jarek-v-textilce
END:VEVENT
END:VCALENDAR
