BEGIN:VCALENDAR
VERSION:2.0
PRODID:-//Nova Osmicka//Event Calendar//CS
CALSCALE:GREGORIAN
METHOD:PUBLISH
BEGIN:VEVENT
UID:event-192@novaosmicka.cz
DTSTAMP:20260425T192225Z
DTSTART:20260504T070000Z
DTEND:20260504T080000Z
SUMMARY:Posilování pro maminky s dětmi
DESCRIPTION:Milé maminky\, chcete se cítit silnější\, stabilnější a spokojenější ve svém těle?
URL:https://www.novaosmicka.cz/program/posilovani-pro-maminky-s-detmi
END:VEVENT
END:VCALENDAR
