BEGIN:VCALENDAR
VERSION:2.0
PRODID:-//Nova Osmicka//Event Calendar//CS
CALSCALE:GREGORIAN
METHOD:PUBLISH
BEGIN:VEVENT
UID:event-86@novaosmicka.cz
DTSTAMP:20260425T192307Z
DTSTART:20260510T190000Z
DTEND:20260510T210000Z
SUMMARY:Letní kino pod komínem - pro dospělé
DESCRIPTION:Zapomeňte na nedělní chmury z blížícího se pondělí.
URL:https://www.novaosmicka.cz/sk/program/letni-kino-pod-kominem-pro-dospele-2
END:VEVENT
END:VCALENDAR
