BEGIN:VCALENDAR
VERSION:2.0
PRODID:-//Nova Osmicka//Event Calendar//CS
CALSCALE:GREGORIAN
METHOD:PUBLISH
BEGIN:VEVENT
UID:event-193@novaosmicka.cz
DTSTAMP:20260425T192257Z
DTSTART:20260511T070000Z
DTEND:20260511T080000Z
SUMMARY:Posilování pro maminky s dětmi
DESCRIPTION:Milé maminky\, chcete se cítit silnější\, stabilnější a spokojenější ve svém těle?
URL:https://www.novaosmicka.cz/sk/program/posilovani-pro-maminky-s-detmi-2
END:VEVENT
END:VCALENDAR
