BEGIN:VCALENDAR
VERSION:2.0
PRODID:-//Nova Osmicka//Event Calendar//CS
CALSCALE:GREGORIAN
METHOD:PUBLISH
BEGIN:VEVENT
UID:event-29@novaosmicka.cz
DTSTAMP:20260425T192257Z
DTSTART:20260509T073000Z
DTEND:20260509T083000Z
SUMMARY:Vinyasa jóga s Yogujme
DESCRIPTION:Přijď si protáhnout tělo a zklidnit mysl na ranní lekci vinyasa jógy s Yogujme.
URL:https://www.novaosmicka.cz/sk/program/vinyasa-joga-s-yogujme-1
END:VEVENT
END:VCALENDAR
