BEGIN:VCALENDAR
VERSION:2.0
PRODID:-//Nova Osmicka//Event Calendar//CS
CALSCALE:GREGORIAN
METHOD:PUBLISH
BEGIN:VEVENT
UID:event-31@novaosmicka.cz
DTSTAMP:20260425T192258Z
DTSTART:20260606T073000Z
DTEND:20260606T083000Z
SUMMARY:Vinyasa jóga s Yogujme
DESCRIPTION:Přijď si protáhnout tělo a zklidnit mysl na ranní lekci vinyasa jógy s Yogujme.
URL:https://www.novaosmicka.cz/sk/program/vinyasa-joga-s-yogujme-3
END:VEVENT
END:VCALENDAR
