BEGIN:VCALENDAR
VERSION:2.0
PRODID:-//Nova Osmicka//Event Calendar//CS
CALSCALE:GREGORIAN
METHOD:PUBLISH
BEGIN:VEVENT
UID:event-28@novaosmicka.cz
DTSTAMP:20260425T180309Z
DTSTART:20260501T070000Z
DTEND:20260501T080000Z
SUMMARY:Vinyasa jóga s Yogujme
DESCRIPTION:Přijď si protáhnout tělo a zklidnit mysl na ranní lekci vinyasa jógy s Yogujme.
URL:https://www.novaosmicka.cz/sk/program/vinyasa-joga-s-yogujme
END:VEVENT
END:VCALENDAR
