BEGIN:VCALENDAR
VERSION:2.0
PRODID:-//Nova Osmicka//Event Calendar//CS
CALSCALE:GREGORIAN
METHOD:PUBLISH
BEGIN:VEVENT
UID:event-218@novaosmicka.cz
DTSTAMP:20260425T192025Z
DTSTART:20260516T073000Z
DTEND:20260516T090000Z
SUMMARY:Yoga s navazujícím programem
DESCRIPTION:Hodina funkční jógové praxe zaměřené na stabilitu
URL:https://www.novaosmicka.cz/sk/program/yoga-s-navazujicim-programem-2
END:VEVENT
END:VCALENDAR
